BEGIN:VCALENDAR
VERSION:2.0
PRODID:-//Qureca - ECPv6.15.18//NONSGML v1.0//EN
CALSCALE:GREGORIAN
METHOD:PUBLISH
X-WR-CALNAME:Qureca
X-ORIGINAL-URL:https://www.qureca.com
X-WR-CALDESC:Events for Qureca
REFRESH-INTERVAL;VALUE=DURATION:PT1H
X-Robots-Tag:noindex
X-PUBLISHED-TTL:PT1H
BEGIN:VTIMEZONE
TZID:Europe/Paris
BEGIN:DAYLIGHT
TZOFFSETFROM:+0100
TZOFFSETTO:+0200
TZNAME:CEST
DTSTART:20190331T010000
END:DAYLIGHT
BEGIN:STANDARD
TZOFFSETFROM:+0200
TZOFFSETTO:+0100
TZNAME:CET
DTSTART:20191027T010000
END:STANDARD
BEGIN:DAYLIGHT
TZOFFSETFROM:+0100
TZOFFSETTO:+0200
TZNAME:CEST
DTSTART:20200329T010000
END:DAYLIGHT
BEGIN:STANDARD
TZOFFSETFROM:+0200
TZOFFSETTO:+0100
TZNAME:CET
DTSTART:20201025T010000
END:STANDARD
BEGIN:DAYLIGHT
TZOFFSETFROM:+0100
TZOFFSETTO:+0200
TZNAME:CEST
DTSTART:20210328T010000
END:DAYLIGHT
BEGIN:STANDARD
TZOFFSETFROM:+0200
TZOFFSETTO:+0100
TZNAME:CET
DTSTART:20211031T010000
END:STANDARD
END:VTIMEZONE
BEGIN:VTIMEZONE
TZID:Australia/Melbourne
BEGIN:STANDARD
TZOFFSETFROM:+1100
TZOFFSETTO:+1000
TZNAME:AEST
DTSTART:20190406T160000
END:STANDARD
BEGIN:DAYLIGHT
TZOFFSETFROM:+1000
TZOFFSETTO:+1100
TZNAME:AEDT
DTSTART:20191005T160000
END:DAYLIGHT
BEGIN:STANDARD
TZOFFSETFROM:+1100
TZOFFSETTO:+1000
TZNAME:AEST
DTSTART:20200404T160000
END:STANDARD
BEGIN:DAYLIGHT
TZOFFSETFROM:+1000
TZOFFSETTO:+1100
TZNAME:AEDT
DTSTART:20201003T160000
END:DAYLIGHT
BEGIN:STANDARD
TZOFFSETFROM:+1100
TZOFFSETTO:+1000
TZNAME:AEST
DTSTART:20210403T160000
END:STANDARD
BEGIN:DAYLIGHT
TZOFFSETFROM:+1000
TZOFFSETTO:+1100
TZNAME:AEDT
DTSTART:20211002T160000
END:DAYLIGHT
END:VTIMEZONE
BEGIN:VTIMEZONE
TZID:Asia/Shanghai
BEGIN:STANDARD
TZOFFSETFROM:+0800
TZOFFSETTO:+0800
TZNAME:CST
DTSTART:20190101T000000
END:STANDARD
END:VTIMEZONE
BEGIN:VEVENT
DTSTART;VALUE=DATE:20201106
DTEND;VALUE=DATE:20201107
DTSTAMP:20260423T011945
CREATED:20240408T145413Z
LAST-MODIFIED:20240408T145416Z
UID:10000024-1604620800-1604707199@www.qureca.com
SUMMARY:UK National Quantum Technologies Showcase
DESCRIPTION:This year\, the UK National Quantum Technologies Showcase will be going virtual! Due to the restrictions and concerns around Covid-19\, the event has been reformatted into an online showcase\, on Friday 6th November. The ethos of the Showcase will stay the same – highlighting the expertise\, capabilities and advances of quantum technologies in the UK and its real-world impact\, with the added benefit of reaching a wider\, global audience. \nThe UK National Quantum Technologies Showcase 2020 will build on the success of previous years\, demonstrating the progress made by the National Programme\, as it enters its second 5-year phase\, and the growing commercialisation and industrialisation of quantum technologies in the UK. \nThe UK National Quantum Technologies Programme (UKNQTP) is a UK Government investment in excess of ~£1b over 10 years\, aimed at accelerating the translation of quantum technologies into the marketplace\, boosting UK business and making a real difference to our everyday lives. \nRegistration is now open for delegates and exhibitors. \nIf you are interested in exhibiting at this year’s event\, please click here for more information.
URL:https://www.qureca.com/calendar/uk-national-quantum-technologies-showcase/
END:VEVENT
BEGIN:VEVENT
DTSTART;VALUE=DATE:20201106
DTEND;VALUE=DATE:20201107
DTSTAMP:20260423T011945
CREATED:20240408T145413Z
LAST-MODIFIED:20240408T145417Z
UID:10000030-1604620800-1604707199@www.qureca.com
SUMMARY:Engineering superconducting circuits for high-performance quantum processors
DESCRIPTION:Abstract: \nSuperconducting qubits provide a promising platform for achieving scalable quantum information processing. However reaching fault tolerance requires further improvements in qubit coherence times\, crosstalk suppression\, and qubit control. In this talk\, I will discuss our efforts in addressing these challenges. First\, I will show how encoding a qubit in robust logical states with disjoint support can provide simultaneous protection against relaxation and pure dephasing. The measured relaxation (1.6ms) and dephasing times (25us) demonstrate the protection in our implementation of the 0-pi qubit. Second\, I will show how Floquet engineering can be used to mitigate 1/f noise. In particular\, we obtain a 40-fold improvement in the coherence time of a Fluxonium qubit. Lastly\, I will show how quantum interference from the coupler energy levels can be harnessed to suppress multiqubit crosstalk\, while simultaneously allowing high fidelity two-qubit gates. Our results pave the way towards a fault-tolerant quantum processor.
URL:https://www.qureca.com/calendar/engineering-superconducting-circuits-for-high-performance-quantum-processors/
END:VEVENT
BEGIN:VEVENT
DTSTART;VALUE=DATE:20201106
DTEND;VALUE=DATE:20201107
DTSTAMP:20260423T011945
CREATED:20240408T145413Z
LAST-MODIFIED:20240408T145417Z
UID:10000031-1604620800-1604707199@www.qureca.com
SUMMARY:Cryptography - A Primer for Quantum Technologists
DESCRIPTION:ABSTRACT: \nIn this session\, we will introduce (a) some basic cryptography techniques\, then (b) discuss some of the post-quantum cryptography techniques considered for replacing key distribution in a post-quantum world. Also\, (c) we will cover a quantum key distribution (QKD) \ntechnique known as BB84\, which relies on the features of quantum physics to exchange private keys. \nBIO: \nTerrill Frantz is a professor at Harrisburg University of Science and Technology in the USA\, where he teaches pre-college\, \nundergraduate\, graduate and PhD courses in quantum computing\, among other subjects. \nHe recently pivoted into quantum computing after working with classical computing software for over 46 years! \nTerrill runs https://www.meetup.com/Philadelphia-Harrisburg-Quantum-Computing-Meetup-Group/ and manages \nhttp://live.quantumapalooza.com/ \nSooraj Bopanna\nQuantum Computing | Internet of Things (IoT) | Deep Learning | AI/ML | Blockchains | Program Management | PMP\, CSM \nhttps://www.linkedin.com/in/sooraj-bopanna/ \nTopic:\nNext Level Quantum Security \nGoTomeeting: Link will be provided\, one hour before the event
URL:https://www.qureca.com/calendar/cryptography-a-primer-for-quantum-technologists/
END:VEVENT
BEGIN:VEVENT
DTSTART;VALUE=DATE:20201105
DTEND;VALUE=DATE:20201106
DTSTAMP:20260423T011945
CREATED:20240408T145413Z
LAST-MODIFIED:20240408T145416Z
UID:10000026-1604534400-1604620799@www.qureca.com
SUMMARY:Deutsch's Oracle
DESCRIPTION:I love Deutsch’s Oracle! \nDeutsch’s Oracle essentially demonstrates how Quantum Computers can perform the mind-boggling\, mystical computations that they do so effortlessly. \nComputations that mankind and womankind never thought possible! \nQuite simply\, they require exponentially fewer computational processes than their inferior digital counterparts! \nI used to think how digital computers -in a way- operate at the speed of electricity so how could it be out-performed by a factor of millions by Quantum Computing. \nWell this presentation will explain how 🙂 \nThe Oracle is basically a watered-down version of the Deutsch-Jozsa algorithm which means that if you are familiar with superposition and the likes of a CNOT gate you can actually understand what is going on. \nMore importantly\, I stress the magnification of the effects between the categories (CNOT gate) and the neutralisation the effects within the categories (Negation) and by so doing we can make a condition rise to the surface -rather like a conjurer forcing a playing card!!! \nQuantum Computing -like life- is a series of incremental advances and Shor’s\, Grover’s Simon’s algorithms evolved from the Deutsch Oracle premise. \nTrust me it is worth an hour or so of your time 🙂
URL:https://www.qureca.com/calendar/deutschs-oracle/
END:VEVENT
BEGIN:VEVENT
DTSTART;VALUE=DATE:20201105
DTEND;VALUE=DATE:20201106
DTSTAMP:20260423T011945
CREATED:20240408T145413Z
LAST-MODIFIED:20240408T145416Z
UID:10000027-1604534400-1604620799@www.qureca.com
SUMMARY:Choreographing Quantum Spin Dynamics with Light
DESCRIPTION:The power of quantum information lies in its capacity to be non-local\, encoded in correlations among two\, three\, or many entangled particles.  Yet our ability to produce\, understand\, and exploit such correlations is hampered by the fact that the interactions between particles and ordinarily local.   I will report on experiments in which we use light to induce non-local interactions among cold atoms\, with photons acting as messengers conveying information between them.  Advances in programming the form and graph of interactions with optical and magnetic fields are opening new opportunities in areas ranging from quantum technologies to fundamental physics.  I will touch on prospects in quantum-enhanced sensing\, combinatorial optimization\, and simulating toy models of quantum gravity.
URL:https://www.qureca.com/calendar/choreographing-quantum-spin-dynamics-with-light/
END:VEVENT
BEGIN:VEVENT
DTSTART;VALUE=DATE:20201105
DTEND;VALUE=DATE:20201106
DTSTAMP:20260423T011945
CREATED:20240408T145413Z
LAST-MODIFIED:20240408T145417Z
UID:10000028-1604534400-1604620799@www.qureca.com
SUMMARY:How to efficiently characterize quantum hardware
DESCRIPTION:Register to join us for a webinar on how to use quantum control and measurement to discover the unknown properties of quantum hardware\, allowing simple tune up and the identification of sources of noise and error. \nWe will introduce two complementary techniques essential to the characterization of quantum devices: System Identification and Noise Spectrum Reconstruction. This webinar will provide background material for those new to these tasks and then use examples to highlight our application in: (i) calibrating Hamiltonian terms with unknown magnitudes that govern system dynamics; (ii) quantifying unknown imperfections in classical hardware such as transmission-lines band limits; and (iii) reconstructing the frequency spectrum of decoherence-inducing noise. \nThe presentation will include new experimental results applying these tools to perform ultra-sensitive noise spectroscopy in a bosonic system\, using modes of mechanical motion in a trapped-ion quantum computer at the University of Sydney.  Join us!
URL:https://www.qureca.com/calendar/how-to-efficiently-characterize-quantum-hardware/
END:VEVENT
BEGIN:VEVENT
DTSTART;VALUE=DATE:20201105
DTEND;VALUE=DATE:20201106
DTSTAMP:20260423T011946
CREATED:20240408T145413Z
LAST-MODIFIED:20240408T145417Z
UID:10000029-1604534400-1604620799@www.qureca.com
SUMMARY:Using AI & Quantum Computing to Optimize Natural Resources
DESCRIPTION:Agenda \n6:30 – 6:40 Intro\n6:40 – 7:30 Using AI & Quantum Computing Presentation by Danika Hannon\n7:30 – 7:45 Q&A\n7:45 – 8:00 Wrap up \nUsing AI & Quantum Computing with Boltz.ai \nDuring this talk\, Danika Hannon will share the Boltz.ai story and talk about how she and her team are using AI and quantum computing to help farmers optimize their resource use so they can lower their operating costs. \nThe Presenter \nDanika Hannon – https://www.linkedin.com/in/danikahannon/ \nIn her role as Head of Operations with Boltz.ai\, co-organizer of the MN Quantum Computing Meetup and Senior Advisor on the Women in Quantum Advisory Board\, Danika Hannon is an active part of the quantum computing community. \nBoltz.ai is a data-driven decision-support platform that optimizes resource usage to help farmers reduce operating costs for optimal growth. \nhttps://www.boltz.ai/
URL:https://www.qureca.com/calendar/using-ai-quantum-computing-to-optimize-natural-resources/
END:VEVENT
BEGIN:VEVENT
DTSTART;VALUE=DATE:20201104
DTEND;VALUE=DATE:20201105
DTSTAMP:20260423T011946
CREATED:20240408T145413Z
LAST-MODIFIED:20240408T145415Z
UID:10000023-1604448000-1604534399@www.qureca.com
SUMMARY:Quantum Hydrodynamics and Rayleigh-Taylor Instability
DESCRIPTION:This seminar will be conducted remotely. To request the Zoom link\, please send an email to: mipse-central@umich.edu \nAbstract:\nMatter at extreme pressures\, temperatures\, and densities characterizes a wide variety of natural and man-made phenomena\, including interiors of Jovian size planets\, hyper-velocity meteor impacts\, the burning core of stars\, thermonuclear burning inertial confinement fusion capsules. Matter at these conditions defines the exciting and challenging field of High Energy Density Physics (HEDP). Besides vast experimental resources\, there exists a rich set of computational tools that model the micro to macro regimes of HEDP. Recently\, there has been a resurgence in interest in using a “simpler” approach to investigating HEDP based on quantum hydrodynamics. Quantum Hydrodynamics (QHD) has a long and interesting history\, dating back to the first developments by Madelung and Bohm. In this talk\, we discuss the historical and recent developments in QHD\, including pitfalls\, as applied to quantum many-body systems relevant to HEDP regimes. We will present three different approaches to deriving the QHD equations-Madelung\, Bloch\, and Wigner and discuss their pros and cons. Finally\, the role that Rayleigh-Taylor hydrodynamic instabilities play is discussed within the QHD formalism. \nAbout the Speaker:\nFrank Graziani received a BS in physics from Santa Clara U.\, and a PhD in physics from UCLA. He was a postdoctoral fellow at U. Colorado and U. Minnesota working in cosmology and particle physics; and worked with NASA on exoplanet dynamics and star formation. Dr. Graziani joined Lawrence Livermore National Lab. in 1989 where he worked in radiation transport and plasma physics. He has held many leadership positions at LLNL\, including group leader\, V&V Leader\, PI for LDRD-Strategic Initiatives\, lead for the National Boost Initiative and Assoc. Division Leader for computational physics. He now directs the High Energy Density Sciences Center. He has won four DOE Defense Program Awards of Excellence\, the LLNL Director’s S&T Award and is a Distinguished Member of the Technical Staff. His research interests include the micro-physics of dense plasmas and HED education. Dr. Graziani is editor of two books on computational methods and a book on warm dense matter physics.
URL:https://www.qureca.com/calendar/quantum-hydrodynamics-and-rayleigh-taylor-instability/
END:VEVENT
BEGIN:VEVENT
DTSTART;VALUE=DATE:20201102
DTEND;VALUE=DATE:20201105
DTSTAMP:20260423T011946
CREATED:20240408T145338Z
LAST-MODIFIED:20240408T145342Z
UID:10000008-1604275200-1604534399@www.qureca.com
SUMMARY:Quantum Technology International Conference – QTech 2020
DESCRIPTION:The growing ability to manipulate quantum systems is paving the way for a second quantum revolution and a number of initiatives worldwide have been formed to foster quantum technologies. These exciting novel applications are exploiting specific quantum properties which are not accessible with classical resources such as superposition and entanglement of individual quantum systems. \nThe objectives of the QTech conference\, which will take place on November 2-4\, 2020\, is to present the latest developments of quantum technologies in the domains of quantum communication\, computation\, simulation\, sensors and metrology\, and their implementation using various platforms from atoms and ions to solid states\, superconducting circuits and optics.
URL:https://www.qureca.com/calendar/quantum-technology-international-conference-qtech-2020/
END:VEVENT
BEGIN:VEVENT
DTSTART;VALUE=DATE:20201029
DTEND;VALUE=DATE:20201030
DTSTAMP:20260423T011946
CREATED:20240408T145413Z
LAST-MODIFIED:20240408T145415Z
UID:10000022-1603929600-1604015999@www.qureca.com
SUMMARY:Quantum Tech - Master Degree Program Information Session Oct 2020 Sess # 09
DESCRIPTION:Program #1: TBA\nProgram #2: TBA\nProgram #3: TBA \nThis series of information sessions about Quantum Technology Master Degrees each feature up to three university programs each session. These sessions are primarily geared to those who are exploring master degree programs in the quantum technologies\, but all interested in this subject are invited to attend. \nThese information sessions are **Free** and are online-only {connect & password information will be emailed to registered participants ~60 minutes prior to meeting} \nFor a current listing of Master Degree programs in Quantum Technologies and more details on each program see: http://masterdegrees.tryquantum.org/
URL:https://www.qureca.com/calendar/quantum-tech-master-degree-program-information-session-oct-2020-sess-09/
END:VEVENT
BEGIN:VEVENT
DTSTART;VALUE=DATE:20201028
DTEND;VALUE=DATE:20201029
DTSTAMP:20260423T011946
CREATED:20240408T145413Z
LAST-MODIFIED:20240408T145415Z
UID:10000021-1603843200-1603929599@www.qureca.com
SUMMARY:Quantum Computing: Standard Chartered Bank and Universities Space Research(USRA)
DESCRIPTION:Content level: 200 — Event is for the “Quantum Inspired” \nSpeaker: Alexei Kondratyev\, Managing Director\, Global Head of Data Science & Analytics\, CCIB\, Standard Chartered Bank \nStandard Chartered Bank and Universities Space Research Association (USRA) have signed a Collaborative Research Agreement to partner on quantum computing research and developing quantum computing applications. \nIn finance\, the most promising use cases with real-world applications include quantum machine learning models (generating synthetic data and data anonymisation) and discriminative models (building strong classifiers and predictors) with multiple potential uses such as credit scoring and generating trading signals. As quantum computing technology matures\, clients should benefit from higher quality services such as faster execution\, better risk management and the development of new financial products. \nStandard Chartered’s team\, led by Dr. Alexei Kondratyev\, Global Head of Data Science and Innovation\, and USRA have collaborated in quantum computing research since 2017. An earlier success in investigating the quantum annealing approach to computational problems in portfolio optimisation use cases led to this strategic partnership\, where USRA will continue to support fundamental academic research in quantum physics and artificial intelligence and Standard Chartered will focus on future commercial applications. \nIn 2012\, USRA partnered with NASA to found the Quantum Artificial Intelligence Laboratory (QuAIL): the space agency’s hub to evaluate the near-term impact of quantum technologies. With QuAIL\, the USRA team has investigated the physics\, the engineering and the performance of multiple generations of quantum annealing processors built by D-Wave Systems. It has also participated in U.S. government research programs that looked into application of quantum annealing for combinatorial optimization\, aviation\, earth science and machine learning. NASA Ames Research Center is currently hosting a D-Wave 2000Q annealing system\, thanks to the support of this partnership. \nStandard Chartered and USRA intend to develop this initial collaboration beyond quantum annealing to all unconventional computing systems that could provide an advantage to applications of interest\, such as gate-model noisy-intermediate scale quantum (NISQ) processors and Coherent Ising machines.
URL:https://www.qureca.com/calendar/quantum-computing-standard-chartered-bank-and-universities-space-researchusra/
END:VEVENT
BEGIN:VEVENT
DTSTART;VALUE=DATE:20201027
DTEND;VALUE=DATE:20201028
DTSTAMP:20260423T011946
CREATED:20240408T145413Z
LAST-MODIFIED:20240408T145415Z
UID:10000020-1603756800-1603843199@www.qureca.com
SUMMARY:Quantum Tech - Master Degree Program Information Session Oct 2020 Sess # 08
DESCRIPTION:Details\nProgram #1: TBA\nProgram #2: TBA\nProgram #3: TBA \nThis series of information sessions about Quantum Technology Master Degrees each feature up to three university programs each session. These sessions are primarily geared to those who are exploring master degree programs in the quantum technologies\, but all interested in this subject are invited to attend. \nThese information sessions are **Free** and are online-only {connect & password information will be emailed to registered participants ~60 minutes prior to meeting} \nFor a current listing of Master Degree programs in Quantum Technologies and more details on each program see: http://masterdegrees.tryquantum.org/
URL:https://www.qureca.com/calendar/quantum-tech-master-degree-program-information-session-oct-2020-sess-08/
END:VEVENT
BEGIN:VEVENT
DTSTART;VALUE=DATE:20201026
DTEND;VALUE=DATE:20201031
DTSTAMP:20260423T011946
CREATED:20240408T145413Z
LAST-MODIFIED:20240408T145415Z
UID:10000019-1603670400-1604102399@www.qureca.com
SUMMARY:Inside Quantum Technology Europe: An Online Conference
DESCRIPTION:This is Inside Quantum Technology’s fourth conference on the commercialization of quantum technology. Quantum technology has come a long way since we held the first ever quantum technology conference almost two years ago in Boston and our first European quantum technology conference in The Hague: \n\nThis conference is a continuation of our European shows and\, as always\, we are running it in conjunction with our partner\, QuTech (founded by the Technical University Delft and the Netherlands Organization for Applied Scientific Research). The European orientation of this conference is reflected in many of our speakers who will come from both the leading European multinationals as well as European based quantum startups. There will also be speakers from both the EU and individual European governments.\nInside Quantum Technology Europe will be focused on the practicalities of implementing quantum technology in the real world. We will hear from end-user firms\, technology firms and policy makers on making quantum technology a reality.\n\nQuantum technology now embraces quantum computing\, QKD\, post-quantum cryptography (PQC)\, quantum networking (moving towards the quantum) and quantum sensors; and of course\, all the associated software. And Europe has emerged as a key geography in all of these areas. \n\n\n6 Reasons for Attending Inside Quantum Technology Europe\n\n\n\nEnhance your knowledge of quantum technology commercialization in Europe.Inside Quantum Technology Europe will offer attendees 60+ expert speakers  There will also be a state-of-the-art online Exhibit Hall in which leading hardware and software firms\, along with service providers\, will display and demonstrate their latest products and strategies.\nLearn from the best. At Inside Quantum Technology you will learn from thought-leaders in the quantum technology field as well as meet the newest entrants into the field. You will also be able to ask presenters questions about their work and the rationale behind it.\nNetwork with your peers. At Inside Quantum Technology there will be plenty of time to network\, do deals\, meet new customers and see new products.  Inside Quantum Technology Europe will help attendees meet new colleagues and discuss the latest opportunities in the quantum technology space.\nMake long-term relationships. At Inside Quantum Technology Europe You can expect to make new contacts that may be your collaborators and colleagues in the future. You may make a connection with someone that will dramatically impact your professional career or just further establish yourself in your field — find a new job\, recruit skilled people for a position at your organization or company.\nPresent your ideas\, skills and new products. Inside Quantum Technology will provide attendees the opportunity to talk about their own research and development work and gain novel perspectives and feedback from others at the conference.\nLatest conferencing platform. Our state-of-the art conferencing platform will also enable attendees to network online with speakers\, exhibitors\, and other attendees to exchange experiences and conduct business. Inside Quantum Technology will be a great way to meet new people in the world of European quantum technology.\n\n\nVertical FOCUS DAY Schedule\nOctober 27 — Quantum Computing \nOctober 28 — Quantum Computing Software and Applications \nOctober 29 — Quantum Communications \nOctober 30 — Quantum Sensors\, Quantum Policy and Quantum Investments
URL:https://www.qureca.com/calendar/inside-quantum-technology-europe-an-online-conference/
END:VEVENT
BEGIN:VEVENT
DTSTART;TZID=Australia/Melbourne:20200803T080000
DTEND;TZID=Australia/Melbourne:20200805T183000
DTSTAMP:20260423T011946
CREATED:20240408T145330Z
LAST-MODIFIED:20240408T145334Z
UID:10000005-1596441600-1596652200@www.qureca.com
SUMMARY:CLEO PR 2020 Conference
DESCRIPTION:The CLEO PR Committee is pleased to confirm that the 14th Pacific Rim Conference on Lasers and Electro-Optics (CLEO PR 2020) will be held as a virtual conference from Monday 3 – Wednesday 5 August 2020. Attendees can watch presentations in real-time and ask questions as well as have the entire program available on demand for a designated time period. \nThis format will provide a valuable opportunity for authors to present their work and share their knowledge more widely than a face to face meeting\, whilst still providing many of the other benefits. \nRegistration is now open to attend the Virtual Conference. Click here to register now. \n(Online Event)
URL:https://www.qureca.com/calendar/cleo-pr-2020-conference/
END:VEVENT
BEGIN:VEVENT
DTSTART;TZID=Asia/Shanghai:20200724T170000
DTEND;TZID=Asia/Shanghai:20200724T180000
DTSTAMP:20260423T011946
CREATED:20240408T145330Z
LAST-MODIFIED:20240408T145331Z
UID:10000002-1595610000-1595613600@www.qureca.com
SUMMARY:Executing Deep Quantum Optimization Algorithms on Superconducting Quantum Processors
DESCRIPTION:Superconducting circuits are a prime contender both for realizing fault-tolerant quantum processors and for executing noisy intermediate-scale quantum (NISQ) algorithms. After a brief introduction to the quantum physics of superconducting circuits I will focus on the latter. The quantum approximate optimization algorithm (QAOA) is one of a whole class of variational methods\, which are believed to be promising to solve computationally hard problems on quantum computers. Also\, the performance of noisy intermediate-scale quantum information processing systems is commonly benchmarked using such algorithms. Gaining computational power from QAOA critically relies on the mitigation of errors during the execution of the algorithm\, which for coherence-limited operations is achievable by reducing the gate count. Here\, I present an improvement of up to a factor of three in algorithmic performance\, by implementing a continuous hardware-efficient gate set. This gate set allows us to perform the phase separation step in QAOA with a single operation for each pair of qubits instead of decomposing it into multiple gates. We experimentally investigate the circuit-depth-dependent performance of our QAOA implementations for finding solutions to exact cover problems mapped onto three or seven qubits using up to a total of 399 operations in up to 9 layers. Our results demonstrate that the use of continuous gate sets may be a key component in extending the impact of near-term quantum computers [1]. Using the same device architecture\, we have recently demonstrated repeated error detection [2]\, an important step toward quantum error correction and the execution of fault-tolerant quantum algorithms. \nReferences\n[1] N. Lacroix et al.\, arXiv:2005.05275 (2020)\n[2] C. K. Andersen et al.\, Nat. Phys. (2020). https://doi.org/10.1038/s41567-020-0920-y \n(Online Event)
URL:https://www.qureca.com/calendar/executing-deep-quantum-optimization-algorithms-on-superconducting-quantum-processors/
END:VEVENT
BEGIN:VEVENT
DTSTART;TZID=Asia/Shanghai:20200723T160000
DTEND;TZID=Asia/Shanghai:20200723T170000
DTSTAMP:20260423T011946
CREATED:20240408T145330Z
LAST-MODIFIED:20240408T145331Z
UID:10000001-1595520000-1595523600@www.qureca.com
SUMMARY:A review of entangled photon pair sources based on three-wave mixing in bulk crystals
DESCRIPTION:Entangled photon-pairs are a vital resource in quantum information protocols ranging from quantum key distribution to teleportation. The commonly used technique for generating photon-pairs is by a three-wave mixing process called spontaneous parametric down-conversion (SPDC) in bulk crystals. The increased demand of quality entangled photon-pair sources for various applications and the readily available technology to build the sources have led to a growing research interest in deployable high performance entangled photon-pair sources. In this talk\, I will give a review of the state-of-the-art for bulk optics based SPDC sources and discuss some of the main considerations when building a source. \n(Online Event)
URL:https://www.qureca.com/calendar/a-review-of-entangled-photon-pair-sources-based-on-three-wave-mixing-in-bulk-crystals/
END:VEVENT
END:VCALENDAR