BEGIN:VCALENDAR
VERSION:2.0
PRODID:-//Qureca - ECPv6.15.18//NONSGML v1.0//EN
CALSCALE:GREGORIAN
METHOD:PUBLISH
X-ORIGINAL-URL:https://www.qureca.com
X-WR-CALDESC:Events for Qureca
REFRESH-INTERVAL;VALUE=DURATION:PT1H
X-Robots-Tag:noindex
X-PUBLISHED-TTL:PT1H
BEGIN:VTIMEZONE
TZID:UTC
BEGIN:STANDARD
TZOFFSETFROM:+0000
TZOFFSETTO:+0000
TZNAME:UTC
DTSTART:20250101T000000
END:STANDARD
END:VTIMEZONE
BEGIN:VEVENT
DTSTART;TZID=UTC:20260909T080000
DTEND;TZID=UTC:20260910T170000
DTSTAMP:20260423T143338
CREATED:20260318T162607Z
LAST-MODIFIED:20260318T162607Z
UID:10000469-1788940800-1789059600@www.qureca.com
SUMMARY:Q2B Copenhagen
DESCRIPTION:The Roadmap to Quantum Value \nQ2B is the global stage for quantum innovation\, bringing together visionaries\, researchers\, and industry leaders to drive breakthroughs and shape the future of technology. We’re excited to host you all at Q2B Copenhagen in 2026! \n\nThe conference will be held exclusively in-person and presented in English
URL:https://www.qureca.com/calendar/q2b-copenhagen/
LOCATION:Copenhagen
CATEGORIES:In person
END:VEVENT
BEGIN:VEVENT
DTSTART;TZID=UTC:20260922T080000
DTEND;TZID=UTC:20260924T170000
DTSTAMP:20260423T143338
CREATED:20251219T083142Z
LAST-MODIFIED:20251219T083142Z
UID:10000386-1790064000-1790269200@www.qureca.com
SUMMARY:Quantum World Congress 2026
DESCRIPTION:The Quantum World Congress 2026 brings the global quantum ecosystem to College Park: one of the most advanced quantum innovation corridors on Earth. This is where breakthroughs become industries. This is where the next era is being built. And in 2026\, you’ll be right at the center of it. 
URL:https://www.qureca.com/calendar/quantum-world-congress-2026/
LOCATION:University of Maryland
CATEGORIES:In person
END:VEVENT
END:VCALENDAR