BEGIN:VCALENDAR
VERSION:2.0
PRODID:-//Qureca - ECPv6.15.18//NONSGML v1.0//EN
CALSCALE:GREGORIAN
METHOD:PUBLISH
X-WR-CALNAME:Qureca
X-ORIGINAL-URL:https://www.qureca.com
X-WR-CALDESC:Events for Qureca
REFRESH-INTERVAL;VALUE=DURATION:PT1H
X-Robots-Tag:noindex
X-PUBLISHED-TTL:PT1H
BEGIN:VTIMEZONE
TZID:UTC
BEGIN:STANDARD
TZOFFSETFROM:+0000
TZOFFSETTO:+0000
TZNAME:UTC
DTSTART:20250101T000000
END:STANDARD
END:VTIMEZONE
BEGIN:VEVENT
DTSTART;TZID=UTC:20260604T080000
DTEND;TZID=UTC:20260605T170000
DTSTAMP:20260423T120344
CREATED:20251222T172440Z
LAST-MODIFIED:20251222T172440Z
UID:10000424-1780560000-1780678800@www.qureca.com
SUMMARY:Q2B Tokyo
DESCRIPTION:The conference will be held exclusively in-person and presented in Japanese and English\, with real-time interpretation.
URL:https://www.qureca.com/calendar/q2b-tokyo/
LOCATION:Tokyo\, Japan
CATEGORIES:In person
END:VEVENT
BEGIN:VEVENT
DTSTART;TZID=UTC:20260617T080000
DTEND;TZID=UTC:20260619T170000
DTSTAMP:20260423T120344
CREATED:20251222T164423Z
LAST-MODIFIED:20251222T164450Z
UID:10000405-1781683200-1781888400@www.qureca.com
SUMMARY:47th ACM SIGPLAN Conference on Programming Language Design and Implementation (PLDI 2026)
DESCRIPTION:Welcome to the home page of the 47th ACM SIGPLAN Conference on Programming Language Design and Implementation (PLDI 2026)!\n\nPLDI is the premier forum in the field of programming languages and programming systems research\, covering the areas of design\, implementation\, theory\, applications\, and performance. \nPLDI 2026 will be held in person at the Limelight Boulder in Boulder\, Colorado\, USA. \nThe main PLDI conference will be held from Wednesday\, June 17\, through Friday\, June 19. Workshops and tutorials were held on Monday\, June 15\, and Tuesday\, June 16.
URL:https://www.qureca.com/calendar/47th-acm-sigplan-conference-on-programming-language-design-and-implementation-pldi-2026/
LOCATION:Colorado\, Colorado\, United States
CATEGORIES:In person
END:VEVENT
BEGIN:VEVENT
DTSTART;VALUE=DATE:20260626
DTEND;VALUE=DATE:20260627
DTSTAMP:20260423T120344
CREATED:20260318T162122Z
LAST-MODIFIED:20260318T162122Z
UID:10000467-1782432000-1782518399@www.qureca.com
SUMMARY:Workshop on Quantum Computing and Quantum Information
DESCRIPTION:The workshop will focus on discussions within its thematic scope of quantum computing and quantum information theory. Topics of interest include but are not limited to: quantum sensing\, quantum materials science\, quantum hardware and architectures\, quantum error correction\, quantum cryptography and quantum communication\, quantum algorithms\, quantum optimization\, quantum AI\, quantum bioinformatics and other relevant experimental and theoretical topics. Submissions including non-finished ideas to raise discussion are possible and indeed welcomed. In addition\, well-crafted tutorials on specific topics can be accepted as contributions. \nSchedule\n\nSubmission deadline: April 26\, 2026\nAuthor notification: May 7\, 2026
URL:https://www.qureca.com/calendar/workshop-on-quantum-computing-and-quantum-information/
LOCATION:Trieste\, Italy\, Italy
CATEGORIES:In person
END:VEVENT
END:VCALENDAR