BEGIN:VCALENDAR
VERSION:2.0
PRODID:-//Qureca - ECPv6.15.18//NONSGML v1.0//EN
CALSCALE:GREGORIAN
METHOD:PUBLISH
X-WR-CALNAME:Qureca
X-ORIGINAL-URL:https://www.qureca.com
X-WR-CALDESC:Events for Qureca
REFRESH-INTERVAL;VALUE=DURATION:PT1H
X-Robots-Tag:noindex
X-PUBLISHED-TTL:PT1H
BEGIN:VTIMEZONE
TZID:UTC
BEGIN:STANDARD
TZOFFSETFROM:+0000
TZOFFSETTO:+0000
TZNAME:UTC
DTSTART:20250101T000000
END:STANDARD
END:VTIMEZONE
BEGIN:VEVENT
DTSTART;TZID=UTC:20260420T080000
DTEND;TZID=UTC:20260422T170000
DTSTAMP:20260421T095451
CREATED:20260120T094258Z
LAST-MODIFIED:20260120T094440Z
UID:10000449-1776672000-1776877200@www.qureca.com
SUMMARY:Quantum Computing Theory in Practice (QCTiP)
DESCRIPTION:Quantum Computing Theory in Practice (QCTiP) aims to bring together the academic community and industry representatives to foster discussions on how to unlock the full potential of quantum computers.
URL:https://www.qureca.com/calendar/quantum-computing-theory-in-practice-qctip-2/
LOCATION:oxford\, Oxford\, United Kingdom
END:VEVENT
BEGIN:VEVENT
DTSTART;TZID=UTC:20260420T080000
DTEND;TZID=UTC:20260424T170000
DTSTAMP:20260421T095451
CREATED:20260109T111955Z
LAST-MODIFIED:20260109T111955Z
UID:10000441-1776672000-1777050000@www.qureca.com
SUMMARY:Hannover Messe 2026
DESCRIPTION:Industry is facing a historic transformation – driven by global competition\, rising costs\, and artificial intelligence. HANNOVER MESSE 2026 will show how companies can turn these pressures into opportunities. \nWith a new thematic structure\, optimized visitor navigation\, fresh networking formats\, and a strong focus on artificial intelligence\, the show will offer even greater value and a more targeted experience for exhibitors and attendees alike.
URL:https://www.qureca.com/calendar/hannover-messe-2026/
LOCATION:hannover\, hannover\, Germany
END:VEVENT
END:VCALENDAR